Workbook

Sheet スタッフ登録
A1: チーム登録簿
A3: ■チーム情報 | G3: ■役員一覧
A4: ■Ｖリーグ機構社員名 | G4: 役職 | H4: 姓 | I4: 名 | J4: ふりがな（性） | K4: ふりがな（名） | L4: 生年月日
A5: ■代表者名 | G5: 部長 | H5: =書式２!B12 -> 0 | I5: =書式２!D12 -> 0
A6: ■チーム名 | G6: ゼネラルマネージャー
A7: ■ニックネーム | G7: 監督 | H7: =書式２!I12 -> 0 | I7: =書式２!K12 -> 0
A8: ■チーム名の由来 | G8: ヘッドコーチ
G9: コーチ | H9: =書式２!M12 -> 0 | I9: =書式２!O12 -> 0
G10: コーチ
G11: トレーニングコーチ
A12: ■呼称（略称も含む） | G12: トレーナー | H12: =書式２!Q12 -> 0 | I12: =書式２!S12 -> 0
A13: ■ﾎｰﾑﾀｳﾝ/ｻﾌﾞﾎｰﾑﾀｳﾝ | G13: トレーナー
A14: ■チーム所在地 | G14: マネージャー
A18: ■体育館所在地
A22: ■ホームページアドレス

Sheet 選手登録 
A1: 選手登録簿
A3: ﾁｰﾑ 名 | B3: =書式２!B8 -> 0 | H3: 42211 | I3: 確認
A5: 背 番号 | B5: 個人登録番号 | C5: 氏名 | E5: 呼称 | F5: ふりがな | H5: ﾆｯｸﾈｰﾑ | I5: ｼｬﾂﾈｰﾑ | J5: 生年月日 | K5: 年齢 | L5: 身長 | M5: 体重 | N5: 指高 | O5: 最高 到達点 | P5: ｻｰｼﾞｬﾝﾄ ジャンプ | Q5: 出身地 | R5: 出身校 | S5: 契約 形態 | T5: 登録日 | U5: 登録有効日 | V5: 登録抹消日 | W5: 学年・学部 | X5: 学連登録番号
C6: （姓） | D6: （名） | F6: （せい） | G6: （めい）
A7: =書式２!I16 -> 0 | C7: =書式２!J16 -> 0 | D7: =書式２!M16 -> 0 | E7: =書式２!I16 -> 0
A8: =書式２!I17 -> 0 | C8: =書式２!J17 -> 0 | D8: =書式２!M17 -> 0 | E8: =書式２!I17 -> 0
A9: =書式２!I18 -> 0 | C9: =書式２!J18 -> 0 | D9: =書式２!M18 -> 0 | E9: =書式２!I18 -> 0
A10: =書式２!I19 -> 0 | C10: =書式２!J19 -> 0 | D10: =書式２!M19 -> 0 | E10: =書式２!I19 -> 0
A11: =書式２!I20 -> 0 | C11: =書式２!J20 -> 0 | D11: =書式２!M20 -> 0 | E11: =書式２!I20 -> 0
A12: =書式２!I21 -> 0 | C12: =書式２!J21 -> 0 | D12: =書式２!M21 -> 0 | E12: =書式２!I21 -> 0
A13: =書式２!I22 -> 0 | C13: =書式２!J22 -> 0 | D13: =書式２!M22 -> 0 | E13: =書式２!I22 -> 0
A14: =書式２!I23 -> 0 | C14: =書式２!J23 -> 0 | D14: =書式２!M23 -> 0 | E14: =書式２!I23 -> 0
A15: =書式２!I24 -> 0 | C15: =書式２!J24 -> 0 | D15: =書式２!M24 -> 0 | E15: =書式２!I24 -> 0
A16: =書式２!I25 -> 0 | C16: =書式２!J25 -> 0 | D16: =書式２!M25 -> 0 | E16: =書式２!I25 -> 0
A17: =書式２!I26 -> 0 | C17: =書式２!J26 -> 0 | D17: =書式２!M26 -> 0 | E17: =書式２!I26 -> 0
A18: =書式２!I27 -> 0 | C18: =書式２!J27 -> 0 | D18: =書式２!M27 -> 0 | E18: =書式２!I27 -> 0
... A24: =書式２!I33 -> 0 | C24: =書式２!J33 -> 0 | D24: =書式２!M33 -> 0 | E24: =書式２!I33 -> 0

Sheet 書式２
C2: 書式２ | I2: 第７３回秩父宮賜杯全日本バレーボール大学男子選手権大会
I4: 第６７回秩父宮妃賜杯全日本バレーボール大学女子選手権大会
B6: ②
B7: 大学名 | I7: 大学所在地 | S7: 所属学連 所属部 | X7: 大学番号
B9: ③ チーム責任者（部長） | I9: ④ チームスタッフ
B10: 部長 | I10: 監督 | M10: コーチ | Q10: トレーナー | U10: マネージャー
B11: 姓 | D11: 名 | I11: 姓 | K11: 名 | M11: 姓 | O11: 名 | Q11: 姓 | S11: 名 | U11: 氏名
B13: ⑤（選手エントリー表）
B14: 学連個人番号 | E14: 個人登録番号 | G14: チェック | I14: 背番号 | J14: 氏 名 | P14: 学年 | Q14: 学 部 | T14: 出 身 高 | W14: 身長 | X14: 最高到達点 | Z14: ポジション
G15: １回目 | H15: ２回目 | J15: 姓 | M15: 名
B34: ⑥（大会中のスタッフ変更予定者一覧表）
D35: 1 | G35: 2 | I35: 2 | L35: 3 | O35: 4 | R35: 5 | U35: 6
B36: 氏 名
B37: ⑦（審判資格確認表）
C38: 氏 名 | F38: 学年 | G38: 連 絡 先 | Q38: 資 格
B39: 1 | C39: （代表者） | G39: 住所 | I39: 住所 | Q39: 級
G40: 携帯電話 | I40: 携帯電話
G41: Ｅ-ｍａｉｌ | I41: E-mail
C42: 性別
B43: 2 | G43: 携帯電話 | I43: 携帯電話 | Q43: 級
C44: 性別 | G44: Ｅ-ｍａｉｌ | I44: E-mail
B45: 3 | G45: 携帯電話 | I45: 携帯電話 | Q45: 級
C46: 性別 | G46: Ｅ-ｍａｉｌ | I46: E-mail
B47: 4 | G47: 携帯電話 | I47: 携帯電話 | Q47: 級
C48: 性別 | G48: Ｅ-ｍａｉｌ | I48: E-mail
B49: ⑧（トレーナー有資格者確認表）
C50: 氏 名 | F50: 性別 | G50: 資格名 | M50: 登録番号 | Q50: 取得年月日
B51: 1
B52: 2
B53: 3
B54: ⑨（指導者資格確認表）エントリーしている選手・スタッフでトレーナー資格を持っている者を記載する。（証明書を必ず提出）
C55: 氏 名 | F55: 性別 | G55: 資格名 | M55: 登録番号 | Q55: 取得年月日
B56: 1
B57: 2
B58: 3
B60: ⑩（大人氏名者確認表）
C61: 氏名 | F61: 生年月日 | K61: 氏名 | N61: 生年月日
B62: 1 | J62: 3
B63: 2 | J63: 4
B65: ⑪（大会中の代表者連絡先）
B66: 大学名 | D66: 学連 大学名 | M66: 男子・女子
B67: ﾌﾘｶﾞﾅ | P67: 作成日２０２０年 月 日
B68: 氏 名 | P68: 記載に誤りはございません。
B69: 携帯電話
B70: Ｅ-ｍａｉｌ | P70: 記載責任者署名
B71: ﾌﾘｶﾞﾅ
B72: 氏 名
B73: 携帯電話
B74: Ｅ-ｍａｉｌ

Sheet 見本２
B2: 記入例 | L2: 第７３回秩父宮賜杯全日本バレーボール大学男子選手権大会
L4: 第６７回秩父宮妃賜杯全日本バレーボール大学女子選手権大会
B6: ②
B7: 大学名 | I7: 大学所在地 | S7: 所属学連 所属部 | X7: 大学番号
B8: 学連大学 | I8: 〒０００－００００ 東京都千代田区… | S8: 関東学連 男子１部
B9: ③ チーム責任者（部長）※１ | I9: ④ チームスタッフ
B10: 部長 | I10: 監督 | M10: コーチ | Q10: トレーナー | U10: マネージャー※2
B11: 姓 | D11: 名 | I11: 姓 | K11: 名 | M11: 姓 | O11: 名 | Q11: 姓 | S11: 名 | U11: 氏名
B12: 埼玉 | D12: 次郎 | I12: 千葉 | K12: 三郎 | Q12: 栃木 | S12: 五郎
B13: ⑤（選手エントリー表）※３、※４
B14: 学連個人番号 | E14: 個人登録番号 | G14: チェック | I14: 背番号 | J14: 氏 名 | P14: 学年 | Q14: 学 部 | U14: 出 身 高 | Y14: 身長 | Z14: 最高到達点 | AB14: ポジション
G15: １回目 | H15: ２回目 | J15: 姓 | M15: 名
I16: ① | J16: 関東 | M16: 太郎 | P16: 4 | Q16: 経営 | U16: ○○工高 | Y16: 170 | Z16: 280 | AB16: OH
I17: 2 | J17: 東京 | M17: 四郎 | P17: 4 | Q17: 体育 | U17: ○○商高 | Y17: 192 | Z17: 343 | AB17: L
B34: ⑥（大会中のスタッフ変更予定者一覧表）
D35: 1 | G35: 2 | I35: 2 | L35: 3 | O35: 4 | R35: 5 | U35: 6
B36: 氏 名 | D36: 茨城 六郎
B37: ⑦（審判資格確認表）エントリーしていない選手・スタッフも可
C38: 氏 名 | F38: 学年 | G38: 連 絡 先 | Q38: 資 格
B39: 1 | C39: （代表者） | G39: 住所 | I39: 住所 | Q39: 級
G40: 携帯電話 | I40: 携帯電話
G41: Ｅ-ｍａｉｌ | I41: E-mail
C42: 性別
B43: 2 | G43: 携帯電話 | I43: 携帯電話 | Q43: 級
C44: 性別 | G44: Ｅ-ｍａｉｌ | I44: E-mail
B45: 3 | G45: 携帯電話 | I45: 携帯電話 | Q45: 級
C46: 性別 | G46: Ｅ-ｍａｉｌ | I46: E-mail
B47: 4 | G47: 携帯電話 | I47: 携帯電話 | Q47: 級
C48: 性別 | G48: Ｅ-ｍａｉｌ | I48: E-mail
B49: ⑧（トレーナー有資格者確認表）エントリーしている選手・スタッフでトレーナー資格を持っている者を記載する。（証明書を必ず提出）
C50: 氏 名 | F50: 性別 | G50: 資格名 | M50: 登録番号 | Q50: 取得年月日
B51: 1 | C51: 千葉三郎 | F51: 男
B52: 2 | C52: 栃木五郎 | F52: 男
B53: 3
B54: ⑨（指導者資格確認表）エントリーしている選手・スタッフでトレーナー資格を持っている者を記載する。（証明書を必ず提出）
C55: 氏 名 | F55: 性別 | G55: 資格名 | M55: 登録番号 | Q55: 取得年月日
B56: 1
B57: 2
B58: 3
B60: ⑩（大人氏名者確認表）太字の人の名前を記載
C61: 氏名 | F61: 生年月日 | K61: 氏名 | N61: 生年月日
B62: 1 | C62: 埼玉 次郎 | F62: 1986.3．3 | J62: 3 | K62: 茨城 六郎 | N62: 1979.6．6
B63: 2 | C63: 千葉 三郎 | F63: 1990.4．4 | J63: 4
B65: ⑪（大会中の代表者連絡先）
B66: 大学名 | D66: 学連 大学名 | M66: 男子・女子 | R66: 作成年月日 | U66: ２０２０年 月 日
B67: ﾌﾘｶﾞﾅ
B68: 氏 名 | R68: 記載に誤りはございません。
B69: 携帯電話 | R69: 記載責任者署名
B70: Ｅ-ｍａｉｌ
B71: ﾌﾘｶﾞﾅ
B72: 氏 名
B73: 携帯電話
B74: Ｅ-ｍａｉｌ
